BEGIN:VCALENDAR
VERSION:2.0
PRODID:-//Pickering Book Tree - ECPv6.15.20//NONSGML v1.0//EN
CALSCALE:GREGORIAN
METHOD:PUBLISH
X-ORIGINAL-URL:https://www.pickeringbooktree.co.uk
X-WR-CALDESC:Events for Pickering Book Tree
REFRESH-INTERVAL;VALUE=DURATION:PT1H
X-Robots-Tag:noindex
X-PUBLISHED-TTL:PT1H
BEGIN:VTIMEZONE
TZID:Europe/London
BEGIN:DAYLIGHT
TZOFFSETFROM:+0000
TZOFFSETTO:+0100
TZNAME:BST
DTSTART:20250330T010000
END:DAYLIGHT
BEGIN:STANDARD
TZOFFSETFROM:+0100
TZOFFSETTO:+0000
TZNAME:GMT
DTSTART:20251026T010000
END:STANDARD
BEGIN:DAYLIGHT
TZOFFSETFROM:+0000
TZOFFSETTO:+0100
TZNAME:BST
DTSTART:20260329T010000
END:DAYLIGHT
BEGIN:STANDARD
TZOFFSETFROM:+0100
TZOFFSETTO:+0000
TZNAME:GMT
DTSTART:20261025T010000
END:STANDARD
BEGIN:DAYLIGHT
TZOFFSETFROM:+0000
TZOFFSETTO:+0100
TZNAME:BST
DTSTART:20270328T010000
END:DAYLIGHT
BEGIN:STANDARD
TZOFFSETFROM:+0100
TZOFFSETTO:+0000
TZNAME:GMT
DTSTART:20271031T010000
END:STANDARD
END:VTIMEZONE
BEGIN:VEVENT
DTSTART;TZID=Europe/London:20260622T190000
DTEND;TZID=Europe/London:20260622T203000
DTSTAMP:20260425T161528
CREATED:20260423T172207Z
LAST-MODIFIED:20260423T172207Z
UID:10000046-1782154800-1782160200@www.pickeringbooktree.co.uk
SUMMARY:Midsummer Festival: Aidan Meighan
DESCRIPTION:The Folklore of Trees\nPickering Book Tree | Doors from 6.30pm | Tickets £5\n \nThe Folklore of Trees explores the fascinating stories and intriguing superstitions behind nature’s guardians. Insightfully written and beautifully illustrated by Aidan Meighan\, it’s the perfect reading companion for every lover of the natural — and mythological — world. \nThis book reminds us of the enduring power of stories to connect us to our history\, to nature and hopefully to an ever-greener future. We need to love life\, we need to love trees — Chris Packham\, wildlife TV presenter & campaigner \nUncover the myths\, legends and secrets of the world’s most iconic trees. \nDid you know that laurel is said to protect against snakebites and shield against witchcraft? Or that yews are often planted near graveyards to keep the devil out? Across cultures and centuries\, trees have stood as guardians of life\, inspiring stories that connect us to nature\, spirituality and tradition. \nThe Folklore of Trees brings these tales together in a stunning hardback featuring a foreword by acclaimed naturalist\, Chris Packham. Inside\, you’ll explore 36 legendary species from around the globe\, each paired with an intricate illustration and rich cultural context. \nYou’ll discover: \n\nThe Major Oak\, said to shelter Robin Hood\, and the baobabs of Madagascar\, revered for their longevity.\nSacred trees of Celtic\, Norse\, Greek\, Roman\, Hindu\, Buddhist and Indigenous traditions.\nFascinating myths behind olive branches of peace\, dragon blood trees that bleed red sap and Japanese cherry blossoms symbolising life’s impermanence.\nSeasonal customs\, protective charms and superstitions.\nA compact\, beautifully designed format\, perfect for gifting or personal reflection.\n\nWhether you’re a nature lover\, folklore enthusiast or simply curious about the stories rooted in our landscapes and forests\, this book is your invitation to wander the cultural canopy. \n  \nAbout the Author\nAidan Meighan is an author\, illustrator and arboreal devotee living in Somerset\, with a passion for nature and storytelling. For fifteen years\, Aidan has been passionately drawing trees\, maps and beautiful places from around the world\, working with travel and lifestyle books and magazines\, brands and destinations\, in his distinctive style. \nAidan is an enthusiast for the written word and print\, being instrumental in the production of the Glastonbury Free Press newspaper since its inception in 2013. He is also a keen gardener and back-yard conservationist. \nThe Folklore of Trees is a joyful coming together of Aidan’s passions and interests. \nYou can find Aidan on his website\, www.aidanmeighan.com\, and on Instagram\, @aidan_meighan. \n  \nTickets\n£5 from the shop counter (currently cash only) or online at ticketsource.com\n  \nDirect link to booking page here\n \nDoors will be open from 6.30pm for a 7pm start. The event will be held in our atmospheric upstairs event space.
URL:https://www.pickeringbooktree.co.uk/event/aidan-meighan/
LOCATION:Pickering Book Tree\, 43a Market Place\, Pickering\, YO18 7AE
CATEGORIES:Folklore & Mythology,In Conversation With,Meet the Author,Meet the Illustrator,Nature Writing,Non Fiction,Pickering Midsummer Festival,Social History
ATTACH;FMTTYPE=image/png:https://www.pickeringbooktree.co.uk/wp-content/uploads/2026/04/Midsummer-Festival-11-images-1.png
END:VEVENT
END:VCALENDAR