BEGIN:VCALENDAR
VERSION:2.0
PRODID:-//Pickering Book Tree - ECPv6.15.20//NONSGML v1.0//EN
CALSCALE:GREGORIAN
METHOD:PUBLISH
X-ORIGINAL-URL:https://www.pickeringbooktree.co.uk
X-WR-CALDESC:Events for Pickering Book Tree
REFRESH-INTERVAL;VALUE=DURATION:PT1H
X-Robots-Tag:noindex
X-PUBLISHED-TTL:PT1H
BEGIN:VTIMEZONE
TZID:Europe/London
BEGIN:DAYLIGHT
TZOFFSETFROM:+0000
TZOFFSETTO:+0100
TZNAME:BST
DTSTART:20250330T010000
END:DAYLIGHT
BEGIN:STANDARD
TZOFFSETFROM:+0100
TZOFFSETTO:+0000
TZNAME:GMT
DTSTART:20251026T010000
END:STANDARD
BEGIN:DAYLIGHT
TZOFFSETFROM:+0000
TZOFFSETTO:+0100
TZNAME:BST
DTSTART:20260329T010000
END:DAYLIGHT
BEGIN:STANDARD
TZOFFSETFROM:+0100
TZOFFSETTO:+0000
TZNAME:GMT
DTSTART:20261025T010000
END:STANDARD
BEGIN:DAYLIGHT
TZOFFSETFROM:+0000
TZOFFSETTO:+0100
TZNAME:BST
DTSTART:20270328T010000
END:DAYLIGHT
BEGIN:STANDARD
TZOFFSETFROM:+0100
TZOFFSETTO:+0000
TZNAME:GMT
DTSTART:20271031T010000
END:STANDARD
END:VTIMEZONE
BEGIN:VEVENT
DTSTART;TZID=Europe/London:20260505T193000
DTEND;TZID=Europe/London:20260505T210000
DTSTAMP:20260425T152451
CREATED:20260408T213220Z
LAST-MODIFIED:20260408T224627Z
UID:10000038-1778009400-1778014800@www.pickeringbooktree.co.uk
SUMMARY:Jules Brown
DESCRIPTION:We’re very much looking forward to chatting with Jules Brown about his travel adventures\, from how he plans his journeys to translating them into his always entertaining real-life stories. \nThe evening will focus on Jules’ newest book Far Out\, which takes readers with him on his challenge to reach each of the four furthest points in Europe by train\, exploring some fascinating off the beaten track places along the way. \nJules’ books are all written in his lively and humorous style\, and are brilliantly engaging with quick and often funny observations which make these reads perfect for fans of Bill Bryson\, anyone in need of some armchair travelling\, or perhaps even to inspire your own European adventure! \nJules started his travel author journey writing for Rough Guides\, now focussing on his own blog posts and travel books. He’s published two series: Tales from a Travel Writer’s Life (Don’t eat the Puffin\, Never Pack an Ice-Axe and Watch Out for Pirates) and On the Rails (Not Cool: Europe by Train in a Heatwave and Far Out: By Train to the Edges of Europe). \nJules has so many great stories to tell gathered from his many trips across Europe and beyond\, so we know that we’re in for a fantastic evening hearing some of them! \nThis event will start at 7.30pm and the shop door will be open from 7pm with complementary wine and cordial available on arrival. \nTickets are free and guarantee entry to the event. Please contact the shop or use the booking form below to reserve your seats. \n  \nAbout the Book\nJules’ travel writing is funny\, inspiring\, quirky and always engaging. His blog is great but reading the cream of his travels in book form is even more fun — Mark Ellingham\, founder of Rough Guides & publisher of Driving over Lemons \nTravel writer Jules Brown is back with another wayward rail adventure. \nWhen Jules sets out to go as far as he can in Europe by train\, everything seems to be on track. Travel to the most extreme stations in the north\, south\, east\, and west. How hard can it be for a seasoned rail traveller and ex guidebook writer? \nFunny you should ask. \nIt’s a long way\, for a start – from Scandinavia and Finland to the shores of the Mediterranean and Atlantic. Even the final destinations are in dispute. In fact\, no one sensible would try it. \nEnter Jules. Whether it’s travelling through the Swedish wilderness on the Inlandsbanan\, into the Pyrenees on the Train Jaune\, or across Spain on the Torre Oro\, he’s aiming for some classic rail experiences. And while capital cities and famous sights come and go\, there are also plenty of offbeat and intriguing stops along the way. \n*This book also includes five special route maps. \nJules has a rare observational talent. These short travel tales are really very good – passionate\, engaging and entertaining — Phil Ascough\, journalist\, author\, media/PR consultant \n  \nAbout the Author\nTravel writer Jules Brown wrote his first books for Rough Guides\, and more recently has produced a series of highly entertaining travel memoirs and adventures based on his travelling life. \nIn his latest book\, Far Out\, he takes to Europe’s trains to journey to the most extreme stations in the north\, south\, east and west of the continent. Part travelogue\, part memoir\, and definitely not a guidebook\, Far Out is a snort-in-your-coffee train adventure by the author of Not Cool: Europe by Train in a Heatwave.
URL:https://www.pickeringbooktree.co.uk/event/jules-brown/
LOCATION:Pickering Book Tree\, 43a Market Place\, Pickering\, YO18 7AE
CATEGORIES:In Conversation With,Meet the Author,Memoir,Non Fiction,Travel Writing
ATTACH;FMTTYPE=image/webp:https://www.pickeringbooktree.co.uk/wp-content/uploads/2026/04/Jules-Brown-webp.webp
END:VEVENT
BEGIN:VEVENT
DTSTART;TZID=Europe/London:20260529T193000
DTEND;TZID=Europe/London:20260529T210000
DTSTAMP:20260425T152451
CREATED:20260408T224454Z
LAST-MODIFIED:20260408T224454Z
UID:10000039-1780083000-1780088400@www.pickeringbooktree.co.uk
SUMMARY:Katie Carr
DESCRIPTION:We very much look forward to welcoming Katie Carr to mark the much anticipated publication of her memoir Thundery at Times. \nKatie’s first book Moderate Becoming Good Later follows her brother Toby as he faces a life‑limiting illness through sea kayaking and the solace of the natural world\, written from his recordings and notes. \nThundery at Times is her own memoir of finishing his Shipping Forecast journey while navigating loss\, a difficult family past\, and midlife in Barcelona. \nThis event will start at 7.30pm and the shop door will be open from 7pm with complementary wine and cordial available on arrival. \nTickets are free and guarantee entry to the event. Please contact the shop or use the booking form below to reserve your seats. \nWe look forward to seeing you there! \n  \nAbout the Book:\nKatie had never been in a sea kayak\, but when her brother Toby died in the middle of his challenge to paddle in every area of the Shipping Forecast\, she decided to honour his memory by completing his adventure. On a journey that takes her from the monotonies of motherhood in urban Barcelona to the far reaches of the Shipping Forecast through the wilds of the British Isles\, Katie is forced to face her past and question her present\, exploring the loss of her family members as well as her own identity. After two years of inelegant paddling and potentially worse parenting\, can she complete the challenge? \nThundery at Times is not a story of battling high seas or completing daring tasks\, but one of making your own rules and living life to the full. It is about finding joy and hope in nature\, motherhood and middle age\, in nurturing your own adventures and embracing connection and peace. It is a story of female resilience in the face of adversity; of staring down grief and asking\, what’s possible from here? \n  \nAbout the Author\nKatie Carr is a British author\, coach and trainer based in Barcelona. Her work sits where sea and city\, loss and possibility meet: she writes narrative non‑fiction and helps people find steadier ways of leading and living; her narrative non‑fiction is rooted in sea\, weather and family\, and includes Moderate Becoming Good Later and Thundery at Times.
URL:https://www.pickeringbooktree.co.uk/event/katie-carr/
LOCATION:Pickering Book Tree\, 43a Market Place\, Pickering\, YO18 7AE
CATEGORIES:In Conversation With,Meet the Author,Memoir,Non Fiction,Travel Writing
ATTACH;FMTTYPE=image/webp:https://www.pickeringbooktree.co.uk/wp-content/uploads/2026/04/Katie-Carr-webp.webp
END:VEVENT
END:VCALENDAR