BEGIN:VCALENDAR
VERSION:2.0
PRODID:-//Pickering Book Tree - ECPv6.15.20//NONSGML v1.0//EN
CALSCALE:GREGORIAN
METHOD:PUBLISH
X-WR-CALNAME:Pickering Book Tree
X-ORIGINAL-URL:https://www.pickeringbooktree.co.uk
X-WR-CALDESC:Events for Pickering Book Tree
REFRESH-INTERVAL;VALUE=DURATION:PT1H
X-Robots-Tag:noindex
X-PUBLISHED-TTL:PT1H
BEGIN:VTIMEZONE
TZID:Europe/London
BEGIN:DAYLIGHT
TZOFFSETFROM:+0000
TZOFFSETTO:+0100
TZNAME:BST
DTSTART:20240331T010000
END:DAYLIGHT
BEGIN:STANDARD
TZOFFSETFROM:+0100
TZOFFSETTO:+0000
TZNAME:GMT
DTSTART:20241027T010000
END:STANDARD
BEGIN:DAYLIGHT
TZOFFSETFROM:+0000
TZOFFSETTO:+0100
TZNAME:BST
DTSTART:20250330T010000
END:DAYLIGHT
BEGIN:STANDARD
TZOFFSETFROM:+0100
TZOFFSETTO:+0000
TZNAME:GMT
DTSTART:20251026T010000
END:STANDARD
BEGIN:DAYLIGHT
TZOFFSETFROM:+0000
TZOFFSETTO:+0100
TZNAME:BST
DTSTART:20260329T010000
END:DAYLIGHT
BEGIN:STANDARD
TZOFFSETFROM:+0100
TZOFFSETTO:+0000
TZNAME:GMT
DTSTART:20261025T010000
END:STANDARD
END:VTIMEZONE
BEGIN:VEVENT
DTSTART;TZID=Europe/London:20250513T190000
DTEND;TZID=Europe/London:20250513T220000
DTSTAMP:20260419T143756
CREATED:20250226T181808Z
LAST-MODIFIED:20250831T193428Z
UID:10000004-1747162800-1747173600@www.pickeringbooktree.co.uk
SUMMARY:Climate Fiction Prize Evening
DESCRIPTION:Join us for a relaxed evening to discuss\, share and celebrate the inaugural Climate Fiction Prize. Expect bookish chat and bookshop browsing\, with offers on the longlisted books. Share your favourites from this year’s longlist and the wider climate fiction genre\, and maybe pick up a read recommended to you on the night!\n  \nThe inaugural Climate Fiction Prize is taking place this year\, and we’re celebrating the first longlist by highlighting the books and hosting an evening event in the Book Tree! \nThis informal event will be on the day before the winner is announced by the Climate Fiction Prize at a ceremony on Wednesday 14th May. Sign up below to chat about the longlisted and shortlisted books over a drink or two in the cosy atmosphere of the bookshop. \nThe Climate Fiction Prize\nThe nine longlisted novels span a fantastic range of new writing in the climate fiction space\, across a variety of styles and genres\, from both debut and established authors. It’s an incredible list\, and we can’t wait to discuss the books with everyone who explores and reads them! \nYou can read more about the Climate Fiction Prize on their website\, and about each of the five shortlisted books on their page about this year’s prize. The full longlist of nine books and their authors are featured on their website here. \nAll nine longlisted books are 10% off in the shop from now until the winner is announced\, or 20% off if purchasing two or more. We also hope to organise a book swap system for those attending the event if there’s enough interest for this to work. \nThe Bookshop Event\nNo matter if you’ve read all nine longlisted titles\, started one of the shortlisted books\, or haven’t picked up any of them yet\, this event welcomes everyone to come along\, share your thoughts and discover more amazing climate fiction reads. \nThe event is free to attend but please RSVP below or contact us in the shop to book a place. \nBring your favourite drink on the night — we’ll provide the glasses and washing up! There’ll also be cordial and water available for anyone who wants this. \nWe’re excited for what is sure to be a lovely evening\, and look forward to seeing you there!
URL:https://www.pickeringbooktree.co.uk/event/climate-fiction-prize-evening/
LOCATION:Pickering Book Tree\, 43a Market Place\, Pickering\, YO18 7AE
CATEGORIES:Bookish Socialising,Climate Fiction,Fiction,Prize Shortlist Celebration
ATTACH;FMTTYPE=image/png:https://www.pickeringbooktree.co.uk/wp-content/uploads/2025/02/Climate-Fiction-Prize-evening.png
END:VEVENT
END:VCALENDAR