BEGIN:VCALENDAR
VERSION:2.0
PRODID:-//Pickering Book Tree - ECPv6.15.20//NONSGML v1.0//EN
CALSCALE:GREGORIAN
METHOD:PUBLISH
X-ORIGINAL-URL:https://www.pickeringbooktree.co.uk
X-WR-CALDESC:Events for Pickering Book Tree
REFRESH-INTERVAL;VALUE=DURATION:PT1H
X-Robots-Tag:noindex
X-PUBLISHED-TTL:PT1H
BEGIN:VTIMEZONE
TZID:Europe/London
BEGIN:DAYLIGHT
TZOFFSETFROM:+0000
TZOFFSETTO:+0100
TZNAME:BST
DTSTART:20240331T010000
END:DAYLIGHT
BEGIN:STANDARD
TZOFFSETFROM:+0100
TZOFFSETTO:+0000
TZNAME:GMT
DTSTART:20241027T010000
END:STANDARD
BEGIN:DAYLIGHT
TZOFFSETFROM:+0000
TZOFFSETTO:+0100
TZNAME:BST
DTSTART:20250330T010000
END:DAYLIGHT
BEGIN:STANDARD
TZOFFSETFROM:+0100
TZOFFSETTO:+0000
TZNAME:GMT
DTSTART:20251026T010000
END:STANDARD
BEGIN:DAYLIGHT
TZOFFSETFROM:+0000
TZOFFSETTO:+0100
TZNAME:BST
DTSTART:20260329T010000
END:DAYLIGHT
BEGIN:STANDARD
TZOFFSETFROM:+0100
TZOFFSETTO:+0000
TZNAME:GMT
DTSTART:20261025T010000
END:STANDARD
END:VTIMEZONE
BEGIN:VEVENT
DTSTART;TZID=Europe/London:20251229T170000
DTEND;TZID=Europe/London:20251229T180000
DTSTAMP:20260424T084011
CREATED:20251212T061404Z
LAST-MODIFIED:20251212T143706Z
UID:10000024-1767027600-1767031200@www.pickeringbooktree.co.uk
SUMMARY:Toby Virgo & Carter the Cabman
DESCRIPTION:‘Tis the Dark Time of the Year…\nbut don’t worry\, Jeremiah Carter is here 🎩 \nWe’re delighted to welcome Toby Virgo and Carter the Cabman back for a special seasonal event in the Book Tree. \nHear extracts from the new Carter the Cabman story\, The Dead Who Bury Us\, and enjoy a warming mulled wine while you soak up the atmosphere. Toby will also share tales and anecdotes from Victorian London’s strange obsession with Death\, gleaned from his extensive research of the period. \nThe Dead Who Bury Us is the third in the series of beautifully produced pamphlets set in the world and life of Carter the Cabman. Like the full length novel they accompany\, each short story is complete with stunning illustrations together with immersive narration rich with historical detail evoking the streets of Victorian London and the realities of life for people of the time. \n  \nAbout the Book\nRead about the story below\, and watch the trailer on YouTube (here’s the link) for a taste of what to expect… \nThe Dead Who Bury Us is set on All Hallows’ Eve\, 1888 and follows hansom cab driver Jeremiah Carter as he works the rain-lashed streets of Victorian London on the night when the veil between the living and the dead is said to be at its thinnest. \nVisiting a small churchyard in the dead of night\, Carter quickly discovers he is not alone. But in a world when men and women will stoop to almost any depths to survive another day in the Abyss\, justice can be served in the strangest of ways. \n  \nEvent Details\nThis event will start at 5pm\, and the shop door will be open from 4.30 (we’ll close as usual at 4pm to set up). \nTickets are free and guarantee entry to the event. There’ll be complementary mulled wine on arrival. \nWe look forward to seeing you there!
URL:https://www.pickeringbooktree.co.uk/event/toby-virgo/
LOCATION:Pickering Book Tree\, 43a Market Place\, Pickering\, YO18 7AE
CATEGORIES:Fiction,Historical Fiction,Meet the Author
ATTACH;FMTTYPE=image/webp:https://www.pickeringbooktree.co.uk/wp-content/uploads/2025/12/Toby-Virgo-webp.webp
END:VEVENT
END:VCALENDAR