BEGIN:VCALENDAR
VERSION:2.0
PRODID:-//Pickering Book Tree - ECPv6.15.20//NONSGML v1.0//EN
CALSCALE:GREGORIAN
METHOD:PUBLISH
X-WR-CALNAME:Pickering Book Tree
X-ORIGINAL-URL:https://www.pickeringbooktree.co.uk
X-WR-CALDESC:Events for Pickering Book Tree
REFRESH-INTERVAL;VALUE=DURATION:PT1H
X-Robots-Tag:noindex
X-PUBLISHED-TTL:PT1H
BEGIN:VTIMEZONE
TZID:Europe/London
BEGIN:DAYLIGHT
TZOFFSETFROM:+0000
TZOFFSETTO:+0100
TZNAME:BST
DTSTART:20240331T010000
END:DAYLIGHT
BEGIN:STANDARD
TZOFFSETFROM:+0100
TZOFFSETTO:+0000
TZNAME:GMT
DTSTART:20241027T010000
END:STANDARD
BEGIN:DAYLIGHT
TZOFFSETFROM:+0000
TZOFFSETTO:+0100
TZNAME:BST
DTSTART:20250330T010000
END:DAYLIGHT
BEGIN:STANDARD
TZOFFSETFROM:+0100
TZOFFSETTO:+0000
TZNAME:GMT
DTSTART:20251026T010000
END:STANDARD
BEGIN:DAYLIGHT
TZOFFSETFROM:+0000
TZOFFSETTO:+0100
TZNAME:BST
DTSTART:20260329T010000
END:DAYLIGHT
BEGIN:STANDARD
TZOFFSETFROM:+0100
TZOFFSETTO:+0000
TZNAME:GMT
DTSTART:20261025T010000
END:STANDARD
END:VTIMEZONE
BEGIN:VEVENT
DTSTART;TZID=Europe/London:20251205T193000
DTEND;TZID=Europe/London:20251205T210000
DTSTAMP:20260424T090718
CREATED:20251104T144820Z
LAST-MODIFIED:20251104T144820Z
UID:10000019-1764963000-1764968400@www.pickeringbooktree.co.uk
SUMMARY:Amanda Huggins
DESCRIPTION:Join us for an evening of storytelling and romance as we chat to award-winning author\, Amanda Huggins about her new novella\, The Blue of You. \nThe perfect read in the run-up to Christmas\, The Blue of You captures the experiences of small town youth and the conflicted feelings that wait for those who choose to return. Set against the backdrop of our very recognisable north-east coastline\, Amanda’s novella is a bitter-sweet and relatable story of one woman’s grief\, her loves and the place she calls home. \n  \nAbout the Book\nEvery Christmas Eve\, Janey Shaw is reminded of the tragic death of her schoolfriend\, Alice\, and the untidy ending of her relationship with Rory Brook\, her first love. When Janey leaves London to return to her hometown on the North East Coast of England\, the ghosts of her unresolved past lie in wait. \nThere\, Janey meets a coble fisherman\, Tom Inglewood\, and admires his ambitions to preserve the traditional way of life in their community and to stop second home owners from painting over the town’s heritage. Can she start to build a new life and finally paint over her own past? Or will she have to confront her ghosts as Christmas draws closer? \n  \nAbout the Author\nAmanda Huggins is the author of the award-winning novellas All Our Squandered Beauty and Crossing the Lines\, as well as seven collections of short stories and poetry. Her latest novella\, The Blue of You\, was released by Northodox Press in October.  Amongst others\, her work has also been published by Harper’s Bazaar\, Mslexia\, The Telegraph and the Guardian. Three of her short stories have been broadcast on BBC radio. \nShe has won numerous awards\, including three Saboteur Awards for fiction and poetry\, the Colm Toibin International Short Story Award\, the H E Bates Short Story Prize and the BGTW New Travel Writer of the Year. \nAmanda grew up on the North Yorkshire coast and has strong family connections to the North York Moors area. She now lives near Leeds where she works as a freelance editor.
URL:https://www.pickeringbooktree.co.uk/event/amanda-huggins/
LOCATION:Pickering Book Tree\, 43a Market Place\, Pickering\, YO18 7AE
CATEGORIES:Fiction,In Conversation With,Literary Fiction,Meet the Author
ATTACH;FMTTYPE=image/webp:https://www.pickeringbooktree.co.uk/wp-content/uploads/2025/09/Amanda-Huggins.webp
END:VEVENT
END:VCALENDAR